BEGIN:VCALENDAR
VERSION:2.0
PRODID:-//Middleburg Civic Association - ECPv6.15.20//NONSGML v1.0//EN
CALSCALE:GREGORIAN
METHOD:PUBLISH
X-WR-CALNAME:Middleburg Civic Association
X-ORIGINAL-URL:https://middleburgcivicassociation.com
X-WR-CALDESC:Events for Middleburg Civic Association
REFRESH-INTERVAL;VALUE=DURATION:PT1H
X-Robots-Tag:noindex
X-PUBLISHED-TTL:PT1H
BEGIN:VTIMEZONE
TZID:America/New_York
BEGIN:DAYLIGHT
TZOFFSETFROM:-0500
TZOFFSETTO:-0400
TZNAME:EDT
DTSTART:20240310T070000
END:DAYLIGHT
BEGIN:STANDARD
TZOFFSETFROM:-0400
TZOFFSETTO:-0500
TZNAME:EST
DTSTART:20241103T060000
END:STANDARD
BEGIN:DAYLIGHT
TZOFFSETFROM:-0500
TZOFFSETTO:-0400
TZNAME:EDT
DTSTART:20250309T070000
END:DAYLIGHT
BEGIN:STANDARD
TZOFFSETFROM:-0400
TZOFFSETTO:-0500
TZNAME:EST
DTSTART:20251102T060000
END:STANDARD
BEGIN:DAYLIGHT
TZOFFSETFROM:-0500
TZOFFSETTO:-0400
TZNAME:EDT
DTSTART:20260308T070000
END:DAYLIGHT
BEGIN:STANDARD
TZOFFSETFROM:-0400
TZOFFSETTO:-0500
TZNAME:EST
DTSTART:20261101T060000
END:STANDARD
END:VTIMEZONE
BEGIN:VEVENT
DTSTART;TZID=America/New_York:20250503T080000
DTEND;TZID=America/New_York:20250503T150000
DTSTAMP:20260421T221752
CREATED:20250408T181927Z
LAST-MODIFIED:20250408T182003Z
UID:7159-1746259200-1746284400@middleburgcivicassociation.com
SUMMARY:Community MCA Clean up project call 9043700152 to volunteer
DESCRIPTION:(4) 2025 MCA Beautification Project | Facebook
URL:https://middleburgcivicassociation.com/event/community-mca-clean-up-project-call-9043700152-to-volunteer/
CATEGORIES:Community Event
END:VEVENT
BEGIN:VEVENT
DTSTART;TZID=America/New_York:20250515T183000
DTEND;TZID=America/New_York:20250515T193000
DTSTAMP:20260421T221752
CREATED:20250206T161313Z
LAST-MODIFIED:20250206T161313Z
UID:6861-1747333800-1747337400@middleburgcivicassociation.com
SUMMARY:Middleburg Museum meeting - open to the public
DESCRIPTION:
URL:https://middleburgcivicassociation.com/event/middleburg-museum-meeting-open-to-the-public-4/
CATEGORIES:Community Event
END:VEVENT
BEGIN:VEVENT
DTSTART;TZID=America/New_York:20250519T183000
DTEND;TZID=America/New_York:20250519T200000
DTSTAMP:20260421T221752
CREATED:20250206T154540Z
LAST-MODIFIED:20250206T154540Z
UID:6809-1747679400-1747684800@middleburgcivicassociation.com
SUMMARY:Advisory Committee- open to public
DESCRIPTION:
URL:https://middleburgcivicassociation.com/event/advisory-committee-open-to-public-3/
CATEGORIES:Community Event
END:VEVENT
END:VCALENDAR