BEGIN:VCALENDAR
VERSION:2.0
PRODID:-//Middleburg Civic Association - ECPv6.15.20//NONSGML v1.0//EN
CALSCALE:GREGORIAN
METHOD:PUBLISH
X-ORIGINAL-URL:https://middleburgcivicassociation.com
X-WR-CALDESC:Events for Middleburg Civic Association
REFRESH-INTERVAL;VALUE=DURATION:PT1H
X-Robots-Tag:noindex
X-PUBLISHED-TTL:PT1H
BEGIN:VTIMEZONE
TZID:America/New_York
BEGIN:DAYLIGHT
TZOFFSETFROM:-0500
TZOFFSETTO:-0400
TZNAME:EDT
DTSTART:20240310T070000
END:DAYLIGHT
BEGIN:STANDARD
TZOFFSETFROM:-0400
TZOFFSETTO:-0500
TZNAME:EST
DTSTART:20241103T060000
END:STANDARD
BEGIN:DAYLIGHT
TZOFFSETFROM:-0500
TZOFFSETTO:-0400
TZNAME:EDT
DTSTART:20250309T070000
END:DAYLIGHT
BEGIN:STANDARD
TZOFFSETFROM:-0400
TZOFFSETTO:-0500
TZNAME:EST
DTSTART:20251102T060000
END:STANDARD
BEGIN:DAYLIGHT
TZOFFSETFROM:-0500
TZOFFSETTO:-0400
TZNAME:EDT
DTSTART:20260308T070000
END:DAYLIGHT
BEGIN:STANDARD
TZOFFSETFROM:-0400
TZOFFSETTO:-0500
TZNAME:EST
DTSTART:20261101T060000
END:STANDARD
END:VTIMEZONE
BEGIN:VEVENT
DTSTART;TZID=America/New_York:20250802T090000
DTEND;TZID=America/New_York:20250802T130000
DTSTAMP:20260421T164300
CREATED:20240607T171939Z
LAST-MODIFIED:20250707T165358Z
UID:6079-1754125200-1754139600@middleburgcivicassociation.com
SUMMARY:Annual Back to School Supply giveaway
DESCRIPTION:Children Must be present
URL:https://middleburgcivicassociation.com/event/bts-hold/
CATEGORIES:Community Event
END:VEVENT
BEGIN:VEVENT
DTSTART;TZID=America/New_York:20250818T180000
DTEND;TZID=America/New_York:20250818T193000
DTSTAMP:20260421T164300
CREATED:20250722T175901Z
LAST-MODIFIED:20250722T175901Z
UID:7510-1755540000-1755545400@middleburgcivicassociation.com
SUMMARY:Middleburg Clay Advisory committee
DESCRIPTION:The Middelburg-Clay Hill Planning District does have items for consideration. \nThe meeting will be Monday August 18\, 2025 @ 6pm\, Middleburg Civic Center\, 2102 Palmetto Street\, Middleburg\, FL
URL:https://middleburgcivicassociation.com/event/middleburg-clay-advisory-committee/
CATEGORIES:Community Event
END:VEVENT
BEGIN:VEVENT
DTSTART;TZID=America/New_York:20250818T183000
DTEND;TZID=America/New_York:20250818T200000
DTSTAMP:20260421T164300
CREATED:20250206T154756Z
LAST-MODIFIED:20250206T154756Z
UID:6815-1755541800-1755547200@middleburgcivicassociation.com
SUMMARY:Advisory Committee- open to public
DESCRIPTION:
URL:https://middleburgcivicassociation.com/event/advisory-committee-open-to-public-6/
CATEGORIES:Community Event
END:VEVENT
END:VCALENDAR