BEGIN:VCALENDAR
VERSION:2.0
PRODID:-//Middleburg Civic Association - ECPv6.15.20//NONSGML v1.0//EN
CALSCALE:GREGORIAN
METHOD:PUBLISH
X-ORIGINAL-URL:https://middleburgcivicassociation.com
X-WR-CALDESC:Events for Middleburg Civic Association
REFRESH-INTERVAL;VALUE=DURATION:PT1H
X-Robots-Tag:noindex
X-PUBLISHED-TTL:PT1H
BEGIN:VTIMEZONE
TZID:America/New_York
BEGIN:DAYLIGHT
TZOFFSETFROM:-0500
TZOFFSETTO:-0400
TZNAME:EDT
DTSTART:20240310T070000
END:DAYLIGHT
BEGIN:STANDARD
TZOFFSETFROM:-0400
TZOFFSETTO:-0500
TZNAME:EST
DTSTART:20241103T060000
END:STANDARD
BEGIN:DAYLIGHT
TZOFFSETFROM:-0500
TZOFFSETTO:-0400
TZNAME:EDT
DTSTART:20250309T070000
END:DAYLIGHT
BEGIN:STANDARD
TZOFFSETFROM:-0400
TZOFFSETTO:-0500
TZNAME:EST
DTSTART:20251102T060000
END:STANDARD
BEGIN:DAYLIGHT
TZOFFSETFROM:-0500
TZOFFSETTO:-0400
TZNAME:EDT
DTSTART:20260308T070000
END:DAYLIGHT
BEGIN:STANDARD
TZOFFSETFROM:-0400
TZOFFSETTO:-0500
TZNAME:EST
DTSTART:20261101T060000
END:STANDARD
END:VTIMEZONE
BEGIN:VEVENT
DTSTART;TZID=America/New_York:20250915T183000
DTEND;TZID=America/New_York:20250915T200000
DTSTAMP:20260421T145820
CREATED:20250206T154839Z
LAST-MODIFIED:20250206T154839Z
UID:6817-1757961000-1757966400@middleburgcivicassociation.com
SUMMARY:Advisory Committee- open to public
DESCRIPTION:
URL:https://middleburgcivicassociation.com/event/advisory-committee-open-to-public-7/
CATEGORIES:Community Event
END:VEVENT
BEGIN:VEVENT
DTSTART;TZID=America/New_York:20250918T183000
DTEND;TZID=America/New_York:20250918T193000
DTSTAMP:20260421T145820
CREATED:20250206T161346Z
LAST-MODIFIED:20250206T161346Z
UID:6863-1758220200-1758223800@middleburgcivicassociation.com
SUMMARY:Middleburg Museum meeting - open to the public
DESCRIPTION:
URL:https://middleburgcivicassociation.com/event/middleburg-museum-meeting-open-to-the-public-5/
CATEGORIES:Community Event
END:VEVENT
END:VCALENDAR