BEGIN:VCALENDAR
VERSION:2.0
PRODID:-//Middleburg Civic Association - ECPv6.15.20//NONSGML v1.0//EN
CALSCALE:GREGORIAN
METHOD:PUBLISH
X-ORIGINAL-URL:https://middleburgcivicassociation.com
X-WR-CALDESC:Events for Middleburg Civic Association
REFRESH-INTERVAL;VALUE=DURATION:PT1H
X-Robots-Tag:noindex
X-PUBLISHED-TTL:PT1H
BEGIN:VTIMEZONE
TZID:America/New_York
BEGIN:DAYLIGHT
TZOFFSETFROM:-0500
TZOFFSETTO:-0400
TZNAME:EDT
DTSTART:20240310T070000
END:DAYLIGHT
BEGIN:STANDARD
TZOFFSETFROM:-0400
TZOFFSETTO:-0500
TZNAME:EST
DTSTART:20241103T060000
END:STANDARD
BEGIN:DAYLIGHT
TZOFFSETFROM:-0500
TZOFFSETTO:-0400
TZNAME:EDT
DTSTART:20250309T070000
END:DAYLIGHT
BEGIN:STANDARD
TZOFFSETFROM:-0400
TZOFFSETTO:-0500
TZNAME:EST
DTSTART:20251102T060000
END:STANDARD
BEGIN:DAYLIGHT
TZOFFSETFROM:-0500
TZOFFSETTO:-0400
TZNAME:EDT
DTSTART:20260308T070000
END:DAYLIGHT
BEGIN:STANDARD
TZOFFSETFROM:-0400
TZOFFSETTO:-0500
TZNAME:EST
DTSTART:20261101T060000
END:STANDARD
END:VTIMEZONE
BEGIN:VEVENT
DTSTART;VALUE=DATE:20251115
DTEND;VALUE=DATE:20251116
DTSTAMP:20260421T112740
CREATED:20250125T143049Z
LAST-MODIFIED:20250923T181231Z
UID:6728-1763164800-1763251199@middleburgcivicassociation.com
SUMMARY:2025 Fall Festival and Car Show---Sign up is closed
DESCRIPTION:Middleburg Fall Festival 2025\nSaturday\, November 15\, 2025\, from 11am-3 pm\nVendors Rules and Application:\nALL VENDORS MUST ENTER PALMETTO STREET TO BE “CHECKED IN” BEFORE SETTING UP.\nAll vendors must submit the attached application. Upon receipt of your application\, you will receive a confirmation email with further information. All spots are first-come\, first-served. Applications must be emailed by October 15\, 2025\, or dropped off at our October meeting to secure a vendor booth. \nThe setup must be complete\, and all vendor vehicles must be off the grounds by 9:30 AM SHARP\nAll roads are closed\, as per a Clay County order\, and no automobile traffic is permitted until after 4:00 PM. If you close early\, you can’t drive a vehicle onto the grounds to load up; you must hand-carry everything off-site.\nVendors must meet local\, state\, business\, and tax regulations\, adhere to all Health Department requirements\, and have necessary documents on hand. (Inspectors may be on site)\nAll Food Trucks will need to be set up for the inspector at 9 am sharp no exceptions\nNo alcohol permitted. All vendors must keep products family-friendly.\nPower and water are not guaranteed to be available. Please plan accordingly.\nClean up after yourself. Remove all trash. If you do not clean up your area\, you will not be invited back. \n 
URL:https://middleburgcivicassociation.com/event/2025-fall-festival-and-car-show/
CATEGORIES:Community Event
END:VEVENT
BEGIN:VEVENT
DTSTART;TZID=America/New_York:20251117T180000
DTEND;TZID=America/New_York:20251117T190000
DTSTAMP:20260421T112740
CREATED:20251030T172849Z
LAST-MODIFIED:20251030T172849Z
UID:7785-1763402400-1763406000@middleburgcivicassociation.com
SUMMARY:Middleburg/ CLay Hill Advisory Meeting (reserved)
DESCRIPTION:
URL:https://middleburgcivicassociation.com/event/middleburg-clay-hill-advisory-meeting-reserved/
LOCATION:2102 Palmetto Street Middleburg Fl 32068\, 2102 Palmetto St\, Middleburg\, FL\, United States
CATEGORIES:Community Event
END:VEVENT
BEGIN:VEVENT
DTSTART;TZID=America/New_York:20251117T180000
DTEND;TZID=America/New_York:20251117T200000
DTSTAMP:20260421T112740
CREATED:20250206T155040Z
LAST-MODIFIED:20250722T175336Z
UID:6823-1763402400-1763409600@middleburgcivicassociation.com
SUMMARY:Advisory Committee- open to public
DESCRIPTION:
URL:https://middleburgcivicassociation.com/event/advisory-committee-open-to-public-10/
CATEGORIES:Community Event
END:VEVENT
BEGIN:VEVENT
DTSTART;TZID=America/New_York:20251119T123000
DTEND;TZID=America/New_York:20251119T140000
DTSTAMP:20260421T112740
CREATED:20250206T161908Z
LAST-MODIFIED:20250206T161908Z
UID:6871-1763555400-1763560800@middleburgcivicassociation.com
SUMMARY:Middleburg Civic Association Thanksgiving Meeting- open to public
DESCRIPTION:
URL:https://middleburgcivicassociation.com/event/middleburg-civic-association-thanksgiving-meeting-open-to-public/
CATEGORIES:Community Event,Meeting
END:VEVENT
BEGIN:VEVENT
DTSTART;TZID=America/New_York:20251120T063000
DTEND;TZID=America/New_York:20251120T193000
DTSTAMP:20260421T112740
CREATED:20250206T161522Z
LAST-MODIFIED:20250206T161522Z
UID:6867-1763620200-1763667000@middleburgcivicassociation.com
SUMMARY:Middleburg Museum meeting - open to the public
DESCRIPTION:
URL:https://middleburgcivicassociation.com/event/middleburg-museum-meeting-open-to-the-public-7/
CATEGORIES:Community Event
END:VEVENT
END:VCALENDAR