BEGIN:VCALENDAR
VERSION:2.0
PRODID:-//Middleburg Civic Association - ECPv6.15.20//NONSGML v1.0//EN
CALSCALE:GREGORIAN
METHOD:PUBLISH
X-ORIGINAL-URL:https://middleburgcivicassociation.com
X-WR-CALDESC:Events for Middleburg Civic Association
REFRESH-INTERVAL;VALUE=DURATION:PT1H
X-Robots-Tag:noindex
X-PUBLISHED-TTL:PT1H
BEGIN:VTIMEZONE
TZID:America/New_York
BEGIN:DAYLIGHT
TZOFFSETFROM:-0500
TZOFFSETTO:-0400
TZNAME:EDT
DTSTART:20250309T070000
END:DAYLIGHT
BEGIN:STANDARD
TZOFFSETFROM:-0400
TZOFFSETTO:-0500
TZNAME:EST
DTSTART:20251102T060000
END:STANDARD
BEGIN:DAYLIGHT
TZOFFSETFROM:-0500
TZOFFSETTO:-0400
TZNAME:EDT
DTSTART:20260308T070000
END:DAYLIGHT
BEGIN:STANDARD
TZOFFSETFROM:-0400
TZOFFSETTO:-0500
TZNAME:EST
DTSTART:20261101T060000
END:STANDARD
BEGIN:DAYLIGHT
TZOFFSETFROM:-0500
TZOFFSETTO:-0400
TZNAME:EDT
DTSTART:20270314T070000
END:DAYLIGHT
BEGIN:STANDARD
TZOFFSETFROM:-0400
TZOFFSETTO:-0500
TZNAME:EST
DTSTART:20271107T060000
END:STANDARD
END:VTIMEZONE
BEGIN:VEVENT
DTSTART;VALUE=DATE:20260805
DTEND;VALUE=DATE:20260817
DTSTAMP:20260422T000344
CREATED:20260105T212001Z
LAST-MODIFIED:20260105T212001Z
UID:8047-1785888000-1786924799@middleburgcivicassociation.com
SUMMARY:election hold
DESCRIPTION:
URL:https://middleburgcivicassociation.com/event/election-hold-2/
CATEGORIES:Blocked Out,Community Event
END:VEVENT
BEGIN:VEVENT
DTSTART;TZID=America/New_York:20260817T180000
DTEND;TZID=America/New_York:20260817T190000
DTSTAMP:20260422T000344
CREATED:20260105T212043Z
LAST-MODIFIED:20260105T212043Z
UID:8049-1786989600-1786993200@middleburgcivicassociation.com
SUMMARY:ccac
DESCRIPTION:
URL:https://middleburgcivicassociation.com/event/ccac-7/
CATEGORIES:Community Event
END:VEVENT
BEGIN:VEVENT
DTSTART;TZID=America/New_York:20261107T110000
DTEND;TZID=America/New_York:20261107T150000
DTSTAMP:20260422T000344
CREATED:20260105T211028Z
LAST-MODIFIED:20260105T211028Z
UID:8031-1794049200-1794063600@middleburgcivicassociation.com
SUMMARY:Fall Festival
DESCRIPTION:
URL:https://middleburgcivicassociation.com/event/fall-festival/
CATEGORIES:Community Event
END:VEVENT
END:VCALENDAR