BEGIN:VCALENDAR
VERSION:2.0
PRODID:-//Middleburg Civic Association - ECPv6.15.20//NONSGML v1.0//EN
CALSCALE:GREGORIAN
METHOD:PUBLISH
X-ORIGINAL-URL:https://middleburgcivicassociation.com
X-WR-CALDESC:Events for Middleburg Civic Association
REFRESH-INTERVAL;VALUE=DURATION:PT1H
X-Robots-Tag:noindex
X-PUBLISHED-TTL:PT1H
BEGIN:VTIMEZONE
TZID:America/New_York
BEGIN:DAYLIGHT
TZOFFSETFROM:-0500
TZOFFSETTO:-0400
TZNAME:EDT
DTSTART:20250309T070000
END:DAYLIGHT
BEGIN:STANDARD
TZOFFSETFROM:-0400
TZOFFSETTO:-0500
TZNAME:EST
DTSTART:20251102T060000
END:STANDARD
BEGIN:DAYLIGHT
TZOFFSETFROM:-0500
TZOFFSETTO:-0400
TZNAME:EDT
DTSTART:20260308T070000
END:DAYLIGHT
BEGIN:STANDARD
TZOFFSETFROM:-0400
TZOFFSETTO:-0500
TZNAME:EST
DTSTART:20261101T060000
END:STANDARD
BEGIN:DAYLIGHT
TZOFFSETFROM:-0500
TZOFFSETTO:-0400
TZNAME:EDT
DTSTART:20270314T070000
END:DAYLIGHT
BEGIN:STANDARD
TZOFFSETFROM:-0400
TZOFFSETTO:-0500
TZNAME:EST
DTSTART:20271107T060000
END:STANDARD
END:VTIMEZONE
BEGIN:VEVENT
DTSTART;TZID=America/New_York:20260316T180000
DTEND;TZID=America/New_York:20260316T190000
DTSTAMP:20260421T075244
CREATED:20260105T204300Z
LAST-MODIFIED:20260105T204300Z
UID:7983-1773684000-1773687600@middleburgcivicassociation.com
SUMMARY:ccac
DESCRIPTION:
URL:https://middleburgcivicassociation.com/event/ccac-3/
CATEGORIES:Community Event,Meeting
END:VEVENT
BEGIN:VEVENT
DTSTART;TZID=America/New_York:20260319T080000
DTEND;TZID=America/New_York:20260319T170000
DTSTAMP:20260421T075244
CREATED:20260105T204338Z
LAST-MODIFIED:20260105T204338Z
UID:7985-1773907200-1773939600@middleburgcivicassociation.com
SUMMARY:rental booked
DESCRIPTION:rental booked museum
URL:https://middleburgcivicassociation.com/event/rental-booked-59/
CATEGORIES:Community Event,Meeting
END:VEVENT
END:VCALENDAR