BEGIN:VCALENDAR
VERSION:2.0
PRODID:-//Middleburg Civic Association - ECPv6.15.20//NONSGML v1.0//EN
CALSCALE:GREGORIAN
METHOD:PUBLISH
X-WR-CALNAME:Middleburg Civic Association
X-ORIGINAL-URL:https://middleburgcivicassociation.com
X-WR-CALDESC:Events for Middleburg Civic Association
REFRESH-INTERVAL;VALUE=DURATION:PT1H
X-Robots-Tag:noindex
X-PUBLISHED-TTL:PT1H
BEGIN:VTIMEZONE
TZID:America/New_York
BEGIN:DAYLIGHT
TZOFFSETFROM:-0500
TZOFFSETTO:-0400
TZNAME:EDT
DTSTART:20240310T070000
END:DAYLIGHT
BEGIN:STANDARD
TZOFFSETFROM:-0400
TZOFFSETTO:-0500
TZNAME:EST
DTSTART:20241103T060000
END:STANDARD
BEGIN:DAYLIGHT
TZOFFSETFROM:-0500
TZOFFSETTO:-0400
TZNAME:EDT
DTSTART:20250309T070000
END:DAYLIGHT
BEGIN:STANDARD
TZOFFSETFROM:-0400
TZOFFSETTO:-0500
TZNAME:EST
DTSTART:20251102T060000
END:STANDARD
BEGIN:DAYLIGHT
TZOFFSETFROM:-0500
TZOFFSETTO:-0400
TZNAME:EDT
DTSTART:20260308T070000
END:DAYLIGHT
BEGIN:STANDARD
TZOFFSETFROM:-0400
TZOFFSETTO:-0500
TZNAME:EST
DTSTART:20261101T060000
END:STANDARD
END:VTIMEZONE
BEGIN:VEVENT
DTSTART;VALUE=DATE:20250502
DTEND;VALUE=DATE:20250503
DTSTAMP:20260422T154519
CREATED:20250128T193825Z
LAST-MODIFIED:20250128T193850Z
UID:6752-1746144000-1746230399@middleburgcivicassociation.com
SUMMARY:Rental booked
DESCRIPTION:Science
URL:https://middleburgcivicassociation.com/event/rental-booked-24/
CATEGORIES:Rental
END:VEVENT
BEGIN:VEVENT
DTSTART;VALUE=DATE:20250427
DTEND;VALUE=DATE:20250428
DTSTAMP:20260422T154519
CREATED:20250408T181650Z
LAST-MODIFIED:20250408T181650Z
UID:7157-1745712000-1745798399@middleburgcivicassociation.com
SUMMARY:rental booked
DESCRIPTION:banchero
URL:https://middleburgcivicassociation.com/event/rental-booked-8/
CATEGORIES:Rental
END:VEVENT
BEGIN:VEVENT
DTSTART;VALUE=DATE:20250426
DTEND;VALUE=DATE:20250427
DTSTAMP:20260422T154519
CREATED:20250218T224118Z
LAST-MODIFIED:20250218T224118Z
UID:6972-1745625600-1745711999@middleburgcivicassociation.com
SUMMARY:Rental booked
DESCRIPTION:Hatfield baby shower
URL:https://middleburgcivicassociation.com/event/rental-booked-23/
CATEGORIES:Rental
END:VEVENT
END:VCALENDAR