BEGIN:VCALENDAR
VERSION:2.0
PRODID:-//Middleburg Civic Association - ECPv6.15.20//NONSGML v1.0//EN
CALSCALE:GREGORIAN
METHOD:PUBLISH
X-WR-CALNAME:Middleburg Civic Association
X-ORIGINAL-URL:https://middleburgcivicassociation.com
X-WR-CALDESC:Events for Middleburg Civic Association
REFRESH-INTERVAL;VALUE=DURATION:PT1H
X-Robots-Tag:noindex
X-PUBLISHED-TTL:PT1H
BEGIN:VTIMEZONE
TZID:America/New_York
BEGIN:DAYLIGHT
TZOFFSETFROM:-0500
TZOFFSETTO:-0400
TZNAME:EDT
DTSTART:20240310T070000
END:DAYLIGHT
BEGIN:STANDARD
TZOFFSETFROM:-0400
TZOFFSETTO:-0500
TZNAME:EST
DTSTART:20241103T060000
END:STANDARD
BEGIN:DAYLIGHT
TZOFFSETFROM:-0500
TZOFFSETTO:-0400
TZNAME:EDT
DTSTART:20250309T070000
END:DAYLIGHT
BEGIN:STANDARD
TZOFFSETFROM:-0400
TZOFFSETTO:-0500
TZNAME:EST
DTSTART:20251102T060000
END:STANDARD
BEGIN:DAYLIGHT
TZOFFSETFROM:-0500
TZOFFSETTO:-0400
TZNAME:EDT
DTSTART:20260308T070000
END:DAYLIGHT
BEGIN:STANDARD
TZOFFSETFROM:-0400
TZOFFSETTO:-0500
TZNAME:EST
DTSTART:20261101T060000
END:STANDARD
END:VTIMEZONE
BEGIN:VEVENT
DTSTART;TZID=America/New_York:20250512T183000
DTEND;TZID=America/New_York:20250512T193000
DTSTAMP:20260421T095038
CREATED:20250206T155510Z
LAST-MODIFIED:20250206T155510Z
UID:6833-1747074600-1747078200@middleburgcivicassociation.com
SUMMARY:Ravines monthly meeting For residents/members only
DESCRIPTION:
URL:https://middleburgcivicassociation.com/event/ravines-monthly-meeting-for-residents-members-only-4/
CATEGORIES:Meeting
END:VEVENT
BEGIN:VEVENT
DTSTART;TZID=America/New_York:20250510T080000
DTEND;TZID=America/New_York:20250510T170000
DTSTAMP:20260421T095038
CREATED:20250408T182213Z
LAST-MODIFIED:20250408T182213Z
UID:7163-1746864000-1746896400@middleburgcivicassociation.com
SUMMARY:rental booked
DESCRIPTION:rental gillis
URL:https://middleburgcivicassociation.com/event/rental-booked-20/
CATEGORIES:Rental
END:VEVENT
BEGIN:VEVENT
DTSTART;VALUE=DATE:20250505
DTEND;VALUE=DATE:20250506
DTSTAMP:20260421T095038
CREATED:20250206T153357Z
LAST-MODIFIED:20250206T153357Z
UID:6783-1746403200-1746489599@middleburgcivicassociation.com
SUMMARY:rental booked
DESCRIPTION:Lyndel Hale Agency
URL:https://middleburgcivicassociation.com/event/rental-booked-63/
CATEGORIES:Rental
END:VEVENT
BEGIN:VEVENT
DTSTART;VALUE=DATE:20250504
DTEND;VALUE=DATE:20250505
DTSTAMP:20260421T095038
CREATED:20250408T182115Z
LAST-MODIFIED:20250408T182115Z
UID:7161-1746316800-1746403199@middleburgcivicassociation.com
SUMMARY:rental booked
DESCRIPTION:mcdaniel
URL:https://middleburgcivicassociation.com/event/rental-booked-16/
CATEGORIES:Rental
END:VEVENT
BEGIN:VEVENT
DTSTART;TZID=America/New_York:20250503T080000
DTEND;TZID=America/New_York:20250503T150000
DTSTAMP:20260421T095038
CREATED:20250408T181927Z
LAST-MODIFIED:20250408T182003Z
UID:7159-1746259200-1746284400@middleburgcivicassociation.com
SUMMARY:Community MCA Clean up project call 9043700152 to volunteer
DESCRIPTION:(4) 2025 MCA Beautification Project | Facebook
URL:https://middleburgcivicassociation.com/event/community-mca-clean-up-project-call-9043700152-to-volunteer/
CATEGORIES:Community Event
END:VEVENT
BEGIN:VEVENT
DTSTART;VALUE=DATE:20250502
DTEND;VALUE=DATE:20250503
DTSTAMP:20260421T095038
CREATED:20250128T193825Z
LAST-MODIFIED:20250128T193850Z
UID:6752-1746144000-1746230399@middleburgcivicassociation.com
SUMMARY:Rental booked
DESCRIPTION:Science
URL:https://middleburgcivicassociation.com/event/rental-booked-24/
CATEGORIES:Rental
END:VEVENT
BEGIN:VEVENT
DTSTART;VALUE=DATE:20250427
DTEND;VALUE=DATE:20250428
DTSTAMP:20260421T095038
CREATED:20250408T181650Z
LAST-MODIFIED:20250408T181650Z
UID:7157-1745712000-1745798399@middleburgcivicassociation.com
SUMMARY:rental booked
DESCRIPTION:banchero
URL:https://middleburgcivicassociation.com/event/rental-booked-8/
CATEGORIES:Rental
END:VEVENT
BEGIN:VEVENT
DTSTART;VALUE=DATE:20250426
DTEND;VALUE=DATE:20250427
DTSTAMP:20260421T095038
CREATED:20250218T224118Z
LAST-MODIFIED:20250218T224118Z
UID:6972-1745625600-1745711999@middleburgcivicassociation.com
SUMMARY:Rental booked
DESCRIPTION:Hatfield baby shower
URL:https://middleburgcivicassociation.com/event/rental-booked-23/
CATEGORIES:Rental
END:VEVENT
BEGIN:VEVENT
DTSTART;TZID=America/New_York:20250421T183000
DTEND;TZID=America/New_York:20250421T200000
DTSTAMP:20260421T095038
CREATED:20250206T154426Z
LAST-MODIFIED:20250206T154426Z
UID:6807-1745260200-1745265600@middleburgcivicassociation.com
SUMMARY:Advisory Committee- open to public
DESCRIPTION:
URL:https://middleburgcivicassociation.com/event/advisory-committee-open-to-public-2/
CATEGORIES:Community Event
END:VEVENT
END:VCALENDAR