BEGIN:VCALENDAR
VERSION:2.0
PRODID:-//Middleburg Civic Association - ECPv6.15.20//NONSGML v1.0//EN
CALSCALE:GREGORIAN
METHOD:PUBLISH
X-ORIGINAL-URL:https://middleburgcivicassociation.com
X-WR-CALDESC:Events for Middleburg Civic Association
REFRESH-INTERVAL;VALUE=DURATION:PT1H
X-Robots-Tag:noindex
X-PUBLISHED-TTL:PT1H
BEGIN:VTIMEZONE
TZID:America/New_York
BEGIN:DAYLIGHT
TZOFFSETFROM:-0500
TZOFFSETTO:-0400
TZNAME:EDT
DTSTART:20240310T070000
END:DAYLIGHT
BEGIN:STANDARD
TZOFFSETFROM:-0400
TZOFFSETTO:-0500
TZNAME:EST
DTSTART:20241103T060000
END:STANDARD
BEGIN:DAYLIGHT
TZOFFSETFROM:-0500
TZOFFSETTO:-0400
TZNAME:EDT
DTSTART:20250309T070000
END:DAYLIGHT
BEGIN:STANDARD
TZOFFSETFROM:-0400
TZOFFSETTO:-0500
TZNAME:EST
DTSTART:20251102T060000
END:STANDARD
BEGIN:DAYLIGHT
TZOFFSETFROM:-0500
TZOFFSETTO:-0400
TZNAME:EDT
DTSTART:20260308T070000
END:DAYLIGHT
BEGIN:STANDARD
TZOFFSETFROM:-0400
TZOFFSETTO:-0500
TZNAME:EST
DTSTART:20261101T060000
END:STANDARD
END:VTIMEZONE
BEGIN:VEVENT
DTSTART;VALUE=DATE:20251201
DTEND;VALUE=DATE:20251202
DTSTAMP:20260421T075051
CREATED:20250206T153842Z
LAST-MODIFIED:20250206T153842Z
UID:6797-1764547200-1764633599@middleburgcivicassociation.com
SUMMARY:Rental Booked
DESCRIPTION:Lyndel Hale Agency
URL:https://middleburgcivicassociation.com/event/rental-booked-71/
CATEGORIES:Rental
END:VEVENT
BEGIN:VEVENT
DTSTART;VALUE=DATE:20251202
DTEND;VALUE=DATE:20251205
DTSTAMP:20260421T075051
CREATED:20250602T155558Z
LAST-MODIFIED:20250602T155558Z
UID:7417-1764633600-1764892799@middleburgcivicassociation.com
SUMMARY:rental booked- Star Cheer
DESCRIPTION:
URL:https://middleburgcivicassociation.com/event/rental-booked-star-cheer-38/
CATEGORIES:Rental
END:VEVENT
BEGIN:VEVENT
DTSTART;VALUE=DATE:20251206
DTEND;VALUE=DATE:20251207
DTSTAMP:20260421T075051
CREATED:20250513T221137Z
LAST-MODIFIED:20250513T221137Z
UID:7296-1764979200-1765065599@middleburgcivicassociation.com
SUMMARY:Rental booked
DESCRIPTION:Zeta Phi Beta Sorority\, Incorporated \nDelta Alpha Delta Zeta Chapter
URL:https://middleburgcivicassociation.com/event/rental-booked-93/
CATEGORIES:Rental
END:VEVENT
BEGIN:VEVENT
DTSTART;VALUE=DATE:20251207
DTEND;VALUE=DATE:20251208
DTSTAMP:20260421T075051
CREATED:20250408T184407Z
LAST-MODIFIED:20250408T184407Z
UID:7186-1765065600-1765151999@middleburgcivicassociation.com
SUMMARY:rental booked
DESCRIPTION:American Manners
URL:https://middleburgcivicassociation.com/event/rental-booked-49/
CATEGORIES:Rental
END:VEVENT
BEGIN:VEVENT
DTSTART;TZID=America/New_York:20251208T183000
DTEND;TZID=America/New_York:20251208T193000
DTSTAMP:20260421T075051
CREATED:20250206T160103Z
LAST-MODIFIED:20250206T160103Z
UID:6850-1765218600-1765222200@middleburgcivicassociation.com
SUMMARY:Ravines monthly meeting For residents/members only
DESCRIPTION:
URL:https://middleburgcivicassociation.com/event/ravines-monthly-meeting-for-residents-members-only-12/
CATEGORIES:Meeting
END:VEVENT
BEGIN:VEVENT
DTSTART;TZID=America/New_York:20251210T080000
DTEND;TZID=America/New_York:20251210T160000
DTSTAMP:20260421T075051
CREATED:20250604T173016Z
LAST-MODIFIED:20250604T173016Z
UID:7429-1765353600-1765382400@middleburgcivicassociation.com
SUMMARY:rental booked
DESCRIPTION:4 kids
URL:https://middleburgcivicassociation.com/event/rental-booked-107/
CATEGORIES:Rental
END:VEVENT
BEGIN:VEVENT
DTSTART;TZID=America/New_York:20251217T123000
DTEND;TZID=America/New_York:20251217T140000
DTSTAMP:20260421T075051
CREATED:20250206T162032Z
LAST-MODIFIED:20250206T162032Z
UID:6873-1765974600-1765980000@middleburgcivicassociation.com
SUMMARY:Middleburg Civic Association- Christmas Party/ Elections
DESCRIPTION:
URL:https://middleburgcivicassociation.com/event/middleburg-civic-association-christmas-party-elections/
CATEGORIES:Meeting
END:VEVENT
BEGIN:VEVENT
DTSTART;TZID=America/New_York:20251218T183000
DTEND;TZID=America/New_York:20251218T193000
DTSTAMP:20260421T075051
CREATED:20250206T161614Z
LAST-MODIFIED:20250206T161614Z
UID:6869-1766082600-1766086200@middleburgcivicassociation.com
SUMMARY:Middleburg Museum meeting - open to the public
DESCRIPTION:
URL:https://middleburgcivicassociation.com/event/middleburg-museum-meeting-open-to-the-public-8/
CATEGORIES:Community Event
END:VEVENT
BEGIN:VEVENT
DTSTART;VALUE=DATE:20251220
DTEND;VALUE=DATE:20251221
DTSTAMP:20260421T075051
CREATED:20250408T183626Z
LAST-MODIFIED:20250408T183626Z
UID:7178-1766188800-1766275199@middleburgcivicassociation.com
SUMMARY:rental booked
DESCRIPTION:green
URL:https://middleburgcivicassociation.com/event/rental-booked-45/
CATEGORIES:Rental
END:VEVENT
BEGIN:VEVENT
DTSTART;VALUE=DATE:20251224
DTEND;VALUE=DATE:20251226
DTSTAMP:20260421T075051
CREATED:20250206T154110Z
LAST-MODIFIED:20250206T154110Z
UID:6800-1766534400-1766707199@middleburgcivicassociation.com
SUMMARY:Rental Booked
DESCRIPTION:Cloud Christmas
URL:https://middleburgcivicassociation.com/event/rental-booked-72/
CATEGORIES:Rental
END:VEVENT
BEGIN:VEVENT
DTSTART;VALUE=DATE:20251226
DTEND;VALUE=DATE:20251227
DTSTAMP:20260421T075051
CREATED:20250707T162822Z
LAST-MODIFIED:20250707T162822Z
UID:7481-1766707200-1766793599@middleburgcivicassociation.com
SUMMARY:rental booked
DESCRIPTION:
URL:https://middleburgcivicassociation.com/event/rental-booked-115/
CATEGORIES:Rental
END:VEVENT
BEGIN:VEVENT
DTSTART;TZID=America/New_York:20251227T080000
DTEND;TZID=America/New_York:20251227T170000
DTSTAMP:20260421T075051
CREATED:20250417T164854Z
LAST-MODIFIED:20250820T174946Z
UID:7242-1766822400-1766854800@middleburgcivicassociation.com
SUMMARY:rental booked
DESCRIPTION:gives rental
URL:https://middleburgcivicassociation.com/event/rental-booked-86/
CATEGORIES:Rental
END:VEVENT
END:VCALENDAR