BEGIN:VCALENDAR
VERSION:2.0
PRODID:-//Middleburg Civic Association - ECPv6.15.20//NONSGML v1.0//EN
CALSCALE:GREGORIAN
METHOD:PUBLISH
X-ORIGINAL-URL:https://middleburgcivicassociation.com
X-WR-CALDESC:Events for Middleburg Civic Association
REFRESH-INTERVAL;VALUE=DURATION:PT1H
X-Robots-Tag:noindex
X-PUBLISHED-TTL:PT1H
BEGIN:VTIMEZONE
TZID:America/New_York
BEGIN:DAYLIGHT
TZOFFSETFROM:-0500
TZOFFSETTO:-0400
TZNAME:EDT
DTSTART:20250309T070000
END:DAYLIGHT
BEGIN:STANDARD
TZOFFSETFROM:-0400
TZOFFSETTO:-0500
TZNAME:EST
DTSTART:20251102T060000
END:STANDARD
BEGIN:DAYLIGHT
TZOFFSETFROM:-0500
TZOFFSETTO:-0400
TZNAME:EDT
DTSTART:20260308T070000
END:DAYLIGHT
BEGIN:STANDARD
TZOFFSETFROM:-0400
TZOFFSETTO:-0500
TZNAME:EST
DTSTART:20261101T060000
END:STANDARD
BEGIN:DAYLIGHT
TZOFFSETFROM:-0500
TZOFFSETTO:-0400
TZNAME:EDT
DTSTART:20270314T070000
END:DAYLIGHT
BEGIN:STANDARD
TZOFFSETFROM:-0400
TZOFFSETTO:-0500
TZNAME:EST
DTSTART:20271107T060000
END:STANDARD
END:VTIMEZONE
BEGIN:VEVENT
DTSTART;VALUE=DATE:20260201
DTEND;VALUE=DATE:20260202
DTSTAMP:20260421T044641
CREATED:20260105T203005Z
LAST-MODIFIED:20260105T203005Z
UID:7961-1769904000-1769990399@middleburgcivicassociation.com
SUMMARY:rental booked
DESCRIPTION:york
URL:https://middleburgcivicassociation.com/event/rental-booked-17/
CATEGORIES:Rental
END:VEVENT
BEGIN:VEVENT
DTSTART;VALUE=DATE:20260205
DTEND;VALUE=DATE:20260206
DTSTAMP:20260421T044641
CREATED:20260105T203040Z
LAST-MODIFIED:20260105T203040Z
UID:7963-1770249600-1770335999@middleburgcivicassociation.com
SUMMARY:rental booked
DESCRIPTION:cheer
URL:https://middleburgcivicassociation.com/event/rental-booked-27/
CATEGORIES:Rental
END:VEVENT
BEGIN:VEVENT
DTSTART;TZID=America/New_York:20260206T080000
DTEND;TZID=America/New_York:20260206T160000
DTSTAMP:20260421T044641
CREATED:20250604T173109Z
LAST-MODIFIED:20250604T173109Z
UID:7431-1770364800-1770393600@middleburgcivicassociation.com
SUMMARY:rental booked
DESCRIPTION:4kids
URL:https://middleburgcivicassociation.com/event/rental-booked-108/
CATEGORIES:Rental
END:VEVENT
BEGIN:VEVENT
DTSTART;VALUE=DATE:20260208
DTEND;VALUE=DATE:20260209
DTSTAMP:20260421T044641
CREATED:20260105T204716Z
LAST-MODIFIED:20260105T204716Z
UID:7992-1770508800-1770595199@middleburgcivicassociation.com
SUMMARY:rental booked
DESCRIPTION:hendry
URL:https://middleburgcivicassociation.com/event/rental-booked-94/
CATEGORIES:Rental
END:VEVENT
BEGIN:VEVENT
DTSTART;TZID=America/New_York:20260209T080000
DTEND;TZID=America/New_York:20260209T170000
DTSTAMP:20260421T044641
CREATED:20260105T203251Z
LAST-MODIFIED:20260105T203251Z
UID:7968-1770624000-1770656400@middleburgcivicassociation.com
SUMMARY:rental booked
DESCRIPTION:ravines
URL:https://middleburgcivicassociation.com/event/rental-booked-30/
CATEGORIES:Meeting,Rental
END:VEVENT
BEGIN:VEVENT
DTSTART;VALUE=DATE:20260212
DTEND;VALUE=DATE:20260214
DTSTAMP:20260421T044641
CREATED:20260105T203213Z
LAST-MODIFIED:20260105T203213Z
UID:7966-1770854400-1771027199@middleburgcivicassociation.com
SUMMARY:rental booked
DESCRIPTION:cheer
URL:https://middleburgcivicassociation.com/event/rental-booked-28/
CATEGORIES:Rental
END:VEVENT
BEGIN:VEVENT
DTSTART;TZID=America/New_York:20260216T180000
DTEND;TZID=America/New_York:20260216T190000
DTSTAMP:20260421T044641
CREATED:20260105T203344Z
LAST-MODIFIED:20260105T203344Z
UID:7970-1771264800-1771268400@middleburgcivicassociation.com
SUMMARY:CCAC
DESCRIPTION:
URL:https://middleburgcivicassociation.com/event/ccac-2/
CATEGORIES:Community Event,Meeting
END:VEVENT
BEGIN:VEVENT
DTSTART;VALUE=DATE:20260217
DTEND;VALUE=DATE:20260218
DTSTAMP:20260421T044641
CREATED:20260105T203425Z
LAST-MODIFIED:20260105T203425Z
UID:7972-1771286400-1771372799@middleburgcivicassociation.com
SUMMARY:rental booked
DESCRIPTION:cheer
URL:https://middleburgcivicassociation.com/event/rental-booked-31/
CATEGORIES:Rental
END:VEVENT
BEGIN:VEVENT
DTSTART;VALUE=DATE:20260226
DTEND;VALUE=DATE:20260227
DTSTAMP:20260421T044641
CREATED:20260105T203640Z
LAST-MODIFIED:20260105T203640Z
UID:7975-1772064000-1772150399@middleburgcivicassociation.com
SUMMARY:rental booked
DESCRIPTION:cheer
URL:https://middleburgcivicassociation.com/event/rental-booked-35/
CATEGORIES:Rental
END:VEVENT
BEGIN:VEVENT
DTSTART;TZID=America/New_York:20260227T080000
DTEND;TZID=America/New_York:20260227T170000
DTSTAMP:20260421T044641
CREATED:20251030T171722Z
LAST-MODIFIED:20251030T171722Z
UID:7774-1772179200-1772211600@middleburgcivicassociation.com
SUMMARY:life line screening
DESCRIPTION:
URL:https://middleburgcivicassociation.com/event/life-line-screening/
CATEGORIES:Rental
END:VEVENT
END:VCALENDAR